BEGIN:VCALENDAR
VERSION:2.0
PRODID:-//NAMA - Nuovo Anfiteatro Martesana - ECPv6.15.12.2//NONSGML v1.0//EN
CALSCALE:GREGORIAN
METHOD:PUBLISH
X-ORIGINAL-URL:https://www.nuovoanfiteatromartesana.org
X-WR-CALDESC:Eventi per NAMA - Nuovo Anfiteatro Martesana
REFRESH-INTERVAL;VALUE=DURATION:PT1H
X-Robots-Tag:noindex
X-PUBLISHED-TTL:PT1H
BEGIN:VTIMEZONE
TZID:UTC
BEGIN:STANDARD
TZOFFSETFROM:+0000
TZOFFSETTO:+0000
TZNAME:UTC
DTSTART:20250101T000000
END:STANDARD
END:VTIMEZONE
BEGIN:VEVENT
DTSTART;VALUE=DATE:20260119
DTEND;VALUE=DATE:20260501
DTSTAMP:20260421T043255
CREATED:20260116T124433Z
LAST-MODIFIED:20260119T093837Z
UID:9189-1768780800-1777593599@www.nuovoanfiteatromartesana.org
SUMMARY:NAMA BENESSERE: LEZIONI DELLA SETTIMANA
DESCRIPTION:NAMA BENESSERE\nAll’interno degli spazi di NAMA proponiamo un calendario settimanale di pratiche benessere e attività dedicate alla cura del corpo e dello spirito. \nLezioni in programma dal 19 gennaio al 30 aprile 2026\nLunedì \n19:15/20:30 \nHATHA YOGA POSTURALE con Sara Scalmani\n→ Sala Bar  \n19:15/20:30\nPILATES con Adel Sumisura Pilates \n→ Spazio eventi \nMartedì \n19:15/20:30\nVINYASA YOGA con Arianna Cocchi\n→ Spazio eventi \n19:15/20:30\nSALTO DELLA CORDA con Simone Marignoli\n→ Sala bar  \n19:15/20:30\nDIFESA PERSONALE con Angelo Sartori\n→ Galleria \nMercoledì \n09:30/10:45\nRAYUELA – ATTIVITÀ ESPRESSIVA E MOVIMENTO Over 65 con Viviana Fabris \n– Lezione gratuita per i soci NAMA\n→ Spazio eventi \n18:15/19:30\nHATHA YOGA E MEDITAZIONE KUNDALINI con Romina Gasperoni \n→ Spazio eventi \n19:30/20:45\nSOUL STRETCH YOGA con Roberta Ruggiero\n(Asana\, Meditazione\, Breathwork\, Sound healing e letture di consapevolezza)\n→ Spazio eventi \nGiovedì \n09:00/10:15\nYOGA GENTILE Over 50 e mobilità ridotta con Arianna Battiston\n– Lezione gratuita per i soci NAMA\n→ Spazio eventi \n19:30\nRUN SULLA MARTESANA con Nolo Runners\n– Attività gratuita per tutt* \n> Tutti gli approfondimenti su lezioni e insegnanti\nINFO UTILI\nUn programma di lezioni pensate per rigenerarci e staccare dalla frenesia quotidiana\, trovando il nostro flow per vivere meglio ogni giorno e per sperimentare una dimensione di personale equilibrio. \nLe lezioni durano 1h / 1h e mezza\, senza bisogno di prenotare: ti basta arrivare 15 minuti prima\, portando il tuo tappetino. È possibile partecipare a una singola lezione\, oppure scegliere l’abbonamento con cui puoi frequentare tutte le lezioni che preferisci. \nLe attività sono riservate ai soci NAMA: ogni lezione costa 10€\, 8€ con l’abbonamento (10 lezioni a 80€). Le lezioni gratuite per i soci e gratuite per tutt* sono segnalate. \n✴︎\nPer informazioni: info@nuovoanfiteatromartesana.org\nSe non hai la tessera NAMA\, registrati online: il pre-tesseramento è obbligatorio almeno 24h prima di arrivare.\nDIVENTA SOCIO NAMA
URL:https://www.nuovoanfiteatromartesana.org/event/nama-benessere-lezioni-della-settimana-12/
LOCATION:[INSIDE] NAMA – Nuovo Anfiteatro Martesana\, Parco della Martesana\, Milano\, 20127
ATTACH;FMTTYPE=image/png:https://nuovoanfiteatromartesana.org/wp-content/uploads/2026/01/NAMA-1000x1000px-2026-01-19T103708.782.png
END:VEVENT
BEGIN:VEVENT
DTSTART;VALUE=DATE:20260307
DTEND;VALUE=DATE:20260309
DTSTAMP:20260421T043255
CREATED:20260302T151545Z
LAST-MODIFIED:20260302T155531Z
UID:9454-1772841600-1773014399@www.nuovoanfiteatromartesana.org
SUMMARY:SPAZIO MARGINE: SVALBARD SOVIET ERA
DESCRIPTION:Tutti i weekend di marzo 2026\nSPAZIO MARGINE: SVALBARD SOVIET ERA\n7–8 / 14–15 / 21–22 / 28–29 marzo\n15:00 – 19:00\nMostra gratuita e all’aperto nel Parco della Martesana\nUn insediamento minerario sovietico nel cuore dell’Artico.\nUna città fantasma sospesa tra ideologia e ghiaccio. \nPyramiden è stata abbandonata nel 1998\, ma la sua architettura continua a parlare: il busto di Lenin più a nord del mondo\, gli edifici razionalisti\, il silenzio bianco che avvolge tutto. \nIntorno\, fiordi immobili\, scogliere innevate\, trichechi solitari.\nUno spazio estremo dove natura e politica si riflettono come montagne sull’acqua. \nUna mostra che attraversa margini geografici e simbolici.\nUn racconto visivo tra memoria\, potere e isolamento. \nMostra fotografica di Clara Vannucci\nTesto di Michele Fossi\n✴︎\nDIVENTA SOCIO NAMA
URL:https://www.nuovoanfiteatromartesana.org/event/spazio-margine-svalbard-soviet-era/
LOCATION:[OPEN AIR] NAMA – Nuovo Anfiteatro Martesana\, Parco della Martesana\, Milano\, 20127
ATTACH;FMTTYPE=image/png:https://nuovoanfiteatromartesana.org/wp-content/uploads/2026/03/NAMA-1000x1000px-2026-03-02T160634.722.png
END:VEVENT
BEGIN:VEVENT
DTSTART;TZID=UTC:20260307T160000
DTEND;TZID=UTC:20260307T160000
DTSTAMP:20260421T043255
CREATED:20260201T152538Z
LAST-MODIFIED:20260309T195649Z
UID:9290-1772899200-1772899200@www.nuovoanfiteatromartesana.org
SUMMARY:ATTREZZERIA POP
DESCRIPTION:Attrezzeria Pop\nTutte i sabati a NAMA con Conservami\nInsieme ripariamo la bici bucata\, il jeans strappato\, il minipimer bloccato e la sedia sgangherata: meno rifiuti e più riparazioni! \ndalle h 16:00 alle 19:00\n✴︎\nIngresso gratuito riservato ai soci NAMA\nSe non hai la tessera\, registrati online: il pre-tesseramento è obbligatorio almeno 24h prima di arrivare. \nDIVENTA SOCIO NAMA
URL:https://www.nuovoanfiteatromartesana.org/event/attrezzeria-pop-21/
LOCATION:[INSIDE] NAMA – Nuovo Anfiteatro Martesana\, Parco della Martesana\, Milano\, 20127
ATTACH;FMTTYPE=image/png:https://nuovoanfiteatromartesana.org/wp-content/uploads/2025/01/Progetto-senza-titolo12.png
END:VEVENT
BEGIN:VEVENT
DTSTART;TZID=UTC:20260307T200000
DTEND;TZID=UTC:20260307T200000
DTSTAMP:20260421T043255
CREATED:20260302T162233Z
LAST-MODIFIED:20260304T130801Z
UID:9465-1772913600-1772913600@www.nuovoanfiteatromartesana.org
SUMMARY:SOUTHERN GLOW REC LABEL NIGHT
DESCRIPTION:Sabato 7 marzo 2026\nSOUTHERN GLOW REC LABEL NIGHT\nPiù che una serata\, è un rito. Southern Glow Rec non è solo un’etichetta\, ma una famiglia nata dall’amicizia e dalla cultura underground. Dalla Puglia a Milano\, fanno vibrare la Psytrance come scelta consapevole e legame autentico.\nIn collaborazione con H Pirates Events \nPIANO DI NAVIGAZIONE:\nOre 20:00 | Talk & Vision “About a psytrance label” – Aperitivo e chiacchiere con tutto il roster Southern Glow.\nOre 22:00 | Music Start 2 Stage – Un’unica rotta sonora che va ben oltre la semplice sequenza di set – dall’old school/techno all’aroma di psychedelia\, sino al Glowers stage con tutti gli artisti della label a bordo. \n✴︎ \nIngresso riservato ai soci NAMA con contributo di 20€.\nSe non hai la tessera\, registrati online: il pre-tesseramento è obbligatorio almeno 24h prima di arrivare. \nDIVENTA SOCIO NAMA
URL:https://www.nuovoanfiteatromartesana.org/event/southern-glow-rec-label-night/
LOCATION:[INSIDE] NAMA – Nuovo Anfiteatro Martesana\, Parco della Martesana\, Milano\, 20127
ATTACH;FMTTYPE=image/png:https://nuovoanfiteatromartesana.org/wp-content/uploads/2026/03/NAMA-1000x1000px-2026-03-04T140703.047.png
END:VEVENT
END:VCALENDAR