BEGIN:VCALENDAR
VERSION:2.0
PRODID:-//NAMA - Nuovo Anfiteatro Martesana - ECPv6.15.12.2//NONSGML v1.0//EN
CALSCALE:GREGORIAN
METHOD:PUBLISH
X-WR-CALNAME:NAMA - Nuovo Anfiteatro Martesana
X-ORIGINAL-URL:https://www.nuovoanfiteatromartesana.org
X-WR-CALDESC:Eventi per NAMA - Nuovo Anfiteatro Martesana
REFRESH-INTERVAL;VALUE=DURATION:PT1H
X-Robots-Tag:noindex
X-PUBLISHED-TTL:PT1H
BEGIN:VTIMEZONE
TZID:UTC
BEGIN:STANDARD
TZOFFSETFROM:+0000
TZOFFSETTO:+0000
TZNAME:UTC
DTSTART:20250101T000000
END:STANDARD
END:VTIMEZONE
BEGIN:VEVENT
DTSTART;VALUE=DATE:20260119
DTEND;VALUE=DATE:20260501
DTSTAMP:20260421T043304
CREATED:20260116T124433Z
LAST-MODIFIED:20260119T093837Z
UID:9189-1768780800-1777593599@www.nuovoanfiteatromartesana.org
SUMMARY:NAMA BENESSERE: LEZIONI DELLA SETTIMANA
DESCRIPTION:NAMA BENESSERE\nAll’interno degli spazi di NAMA proponiamo un calendario settimanale di pratiche benessere e attività dedicate alla cura del corpo e dello spirito. \nLezioni in programma dal 19 gennaio al 30 aprile 2026\nLunedì \n19:15/20:30 \nHATHA YOGA POSTURALE con Sara Scalmani\n→ Sala Bar  \n19:15/20:30\nPILATES con Adel Sumisura Pilates \n→ Spazio eventi \nMartedì \n19:15/20:30\nVINYASA YOGA con Arianna Cocchi\n→ Spazio eventi \n19:15/20:30\nSALTO DELLA CORDA con Simone Marignoli\n→ Sala bar  \n19:15/20:30\nDIFESA PERSONALE con Angelo Sartori\n→ Galleria \nMercoledì \n09:30/10:45\nRAYUELA – ATTIVITÀ ESPRESSIVA E MOVIMENTO Over 65 con Viviana Fabris \n– Lezione gratuita per i soci NAMA\n→ Spazio eventi \n18:15/19:30\nHATHA YOGA E MEDITAZIONE KUNDALINI con Romina Gasperoni \n→ Spazio eventi \n19:30/20:45\nSOUL STRETCH YOGA con Roberta Ruggiero\n(Asana\, Meditazione\, Breathwork\, Sound healing e letture di consapevolezza)\n→ Spazio eventi \nGiovedì \n09:00/10:15\nYOGA GENTILE Over 50 e mobilità ridotta con Arianna Battiston\n– Lezione gratuita per i soci NAMA\n→ Spazio eventi \n19:30\nRUN SULLA MARTESANA con Nolo Runners\n– Attività gratuita per tutt* \n> Tutti gli approfondimenti su lezioni e insegnanti\nINFO UTILI\nUn programma di lezioni pensate per rigenerarci e staccare dalla frenesia quotidiana\, trovando il nostro flow per vivere meglio ogni giorno e per sperimentare una dimensione di personale equilibrio. \nLe lezioni durano 1h / 1h e mezza\, senza bisogno di prenotare: ti basta arrivare 15 minuti prima\, portando il tuo tappetino. È possibile partecipare a una singola lezione\, oppure scegliere l’abbonamento con cui puoi frequentare tutte le lezioni che preferisci. \nLe attività sono riservate ai soci NAMA: ogni lezione costa 10€\, 8€ con l’abbonamento (10 lezioni a 80€). Le lezioni gratuite per i soci e gratuite per tutt* sono segnalate. \n✴︎\nPer informazioni: info@nuovoanfiteatromartesana.org\nSe non hai la tessera NAMA\, registrati online: il pre-tesseramento è obbligatorio almeno 24h prima di arrivare.\nDIVENTA SOCIO NAMA
URL:https://www.nuovoanfiteatromartesana.org/event/nama-benessere-lezioni-della-settimana-12/
LOCATION:[INSIDE] NAMA – Nuovo Anfiteatro Martesana\, Parco della Martesana\, Milano\, 20127
ATTACH;FMTTYPE=image/png:https://nuovoanfiteatromartesana.org/wp-content/uploads/2026/01/NAMA-1000x1000px-2026-01-19T103708.782.png
END:VEVENT
BEGIN:VEVENT
DTSTART;TZID=UTC:20260327T193000
DTEND;TZID=UTC:20260327T193000
DTSTAMP:20260421T043304
CREATED:20260324T152849Z
LAST-MODIFIED:20260324T152849Z
UID:9591-1774639800-1774639800@www.nuovoanfiteatromartesana.org
SUMMARY:JOHNNY MARSIGLIA & MICROSPASMI LIVE
DESCRIPTION:Venerdì 27 marzo 2026\nJOHNNY MARSIGLIA & MICROSPASMI LIVE\n\nVenerdì 27 marzo\, PAYBACK RECORDS & NAMA portano a MILANO due concerti imperdibili per gli amanti del genere. \nJohnny Marsiglia\, accompagnato da DJ Tsura LIVE. Uno show sinonimo di garanzia\, in cui sulla scia di “gara 7” -ultimo progetto ufficiale del liricista Palermitano- sicuramente verranno ripercorse fasi importanti della della sua carriera come “Orgoglio”\, “Memory” e “Fantastica illusione”. \nMicrospasmi\, super duo leggendario dell’underground Italiano\, composto da GOEDI & MEDDA\, tornano sul palco insieme come un fulmine a ciel sereno per un live act che si preannuncia già essere memorabile. \nCome open act\, la coppia di MC’s Torinesi composta da Michael Sorriso e Roy Zen porteranno il loro “MADRE RABBIA” uscito a gennaio e immediatamente riconosciuto come uno dei progetti più interessanti fra i “new comers”\, due penne affilate e per nulla scontate. \nWarm up: Terry G\, Bologna\, outta LINK AKADEMY \nAftershow: MACRO MARCO dj set\, accompagnato al microfono da ARES ADAMI. \n\n✴︎ \nIngresso riservato ai soci NAMA con contributo di 10€\nSe non hai la tessera\, registrati online: il pre-tesseramento è obbligatorio almeno 24h prima di arrivare. \nDIVENTA SOCIO NAMA
URL:https://www.nuovoanfiteatromartesana.org/event/johnny-marsiglia-microspasmi-live/
LOCATION:[INSIDE] NAMA – Nuovo Anfiteatro Martesana\, Parco della Martesana\, Milano\, 20127
ATTACH;FMTTYPE=image/png:https://nuovoanfiteatromartesana.org/wp-content/uploads/2026/03/NAMA-1000x1000px-5.png
END:VEVENT
BEGIN:VEVENT
DTSTART;TZID=UTC:20260327T220000
DTEND;TZID=UTC:20260327T220000
DTSTAMP:20260421T043304
CREATED:20260324T161559Z
LAST-MODIFIED:20260324T161559Z
UID:9599-1774648800-1774648800@www.nuovoanfiteatromartesana.org
SUMMARY:ROCKERS ARENA ALL STAR
DESCRIPTION:Venerdì 27 marzo 2026\nROCKERS ARENA ALL STAR\n\nALL STARS night @ NAMA \nNotte tutta in famiglia con i resident selectas: \n@mr.brown_sound_system\n@therootsfellas\n@toolyo \n…e con chi altro ha le chiavi di casa: \n@dreadlionnn \nE tutti voi ROCKERS! \nMenzione speciale ad @ane_mik.img per i light show che da qualche tempo accompagnano le nostre meditazioni sonore e spirituali \nSee ya\, Rockers!!! \n\n✴︎ \nIngresso riservato ai soci NAMA con contributo di 5€\nSe non hai la tessera\, registrati online: il pre-tesseramento è obbligatorio almeno 24h prima di arrivare. \nDIVENTA SOCIO NAMA
URL:https://www.nuovoanfiteatromartesana.org/event/rockers-arena-all-star/
LOCATION:[INSIDE] NAMA – Nuovo Anfiteatro Martesana\, Parco della Martesana\, Milano\, 20127
ATTACH;FMTTYPE=image/png:https://nuovoanfiteatromartesana.org/wp-content/uploads/2026/03/NAMA-1000x1000px-7.png
END:VEVENT
END:VCALENDAR