BEGIN:VCALENDAR
VERSION:2.0
PRODID:-//NAMA - Nuovo Anfiteatro Martesana - ECPv6.15.12.2//NONSGML v1.0//EN
CALSCALE:GREGORIAN
METHOD:PUBLISH
X-ORIGINAL-URL:https://www.nuovoanfiteatromartesana.org
X-WR-CALDESC:Eventi per NAMA - Nuovo Anfiteatro Martesana
REFRESH-INTERVAL;VALUE=DURATION:PT1H
X-Robots-Tag:noindex
X-PUBLISHED-TTL:PT1H
BEGIN:VTIMEZONE
TZID:UTC
BEGIN:STANDARD
TZOFFSETFROM:+0000
TZOFFSETTO:+0000
TZNAME:UTC
DTSTART:20250101T000000
END:STANDARD
END:VTIMEZONE
BEGIN:VEVENT
DTSTART;VALUE=DATE:20260119
DTEND;VALUE=DATE:20260501
DTSTAMP:20260421T030934
CREATED:20260116T124433Z
LAST-MODIFIED:20260119T093837Z
UID:9189-1768780800-1777593599@www.nuovoanfiteatromartesana.org
SUMMARY:NAMA BENESSERE: LEZIONI DELLA SETTIMANA
DESCRIPTION:NAMA BENESSERE\nAll’interno degli spazi di NAMA proponiamo un calendario settimanale di pratiche benessere e attività dedicate alla cura del corpo e dello spirito. \nLezioni in programma dal 19 gennaio al 30 aprile 2026\nLunedì \n19:15/20:30 \nHATHA YOGA POSTURALE con Sara Scalmani\n→ Sala Bar  \n19:15/20:30\nPILATES con Adel Sumisura Pilates \n→ Spazio eventi \nMartedì \n19:15/20:30\nVINYASA YOGA con Arianna Cocchi\n→ Spazio eventi \n19:15/20:30\nSALTO DELLA CORDA con Simone Marignoli\n→ Sala bar  \n19:15/20:30\nDIFESA PERSONALE con Angelo Sartori\n→ Galleria \nMercoledì \n09:30/10:45\nRAYUELA – ATTIVITÀ ESPRESSIVA E MOVIMENTO Over 65 con Viviana Fabris \n– Lezione gratuita per i soci NAMA\n→ Spazio eventi \n18:15/19:30\nHATHA YOGA E MEDITAZIONE KUNDALINI con Romina Gasperoni \n→ Spazio eventi \n19:30/20:45\nSOUL STRETCH YOGA con Roberta Ruggiero\n(Asana\, Meditazione\, Breathwork\, Sound healing e letture di consapevolezza)\n→ Spazio eventi \nGiovedì \n09:00/10:15\nYOGA GENTILE Over 50 e mobilità ridotta con Arianna Battiston\n– Lezione gratuita per i soci NAMA\n→ Spazio eventi \n19:30\nRUN SULLA MARTESANA con Nolo Runners\n– Attività gratuita per tutt* \n> Tutti gli approfondimenti su lezioni e insegnanti\nINFO UTILI\nUn programma di lezioni pensate per rigenerarci e staccare dalla frenesia quotidiana\, trovando il nostro flow per vivere meglio ogni giorno e per sperimentare una dimensione di personale equilibrio. \nLe lezioni durano 1h / 1h e mezza\, senza bisogno di prenotare: ti basta arrivare 15 minuti prima\, portando il tuo tappetino. È possibile partecipare a una singola lezione\, oppure scegliere l’abbonamento con cui puoi frequentare tutte le lezioni che preferisci. \nLe attività sono riservate ai soci NAMA: ogni lezione costa 10€\, 8€ con l’abbonamento (10 lezioni a 80€). Le lezioni gratuite per i soci e gratuite per tutt* sono segnalate. \n✴︎\nPer informazioni: info@nuovoanfiteatromartesana.org\nSe non hai la tessera NAMA\, registrati online: il pre-tesseramento è obbligatorio almeno 24h prima di arrivare.\nDIVENTA SOCIO NAMA
URL:https://www.nuovoanfiteatromartesana.org/event/nama-benessere-lezioni-della-settimana-12/
LOCATION:[INSIDE] NAMA – Nuovo Anfiteatro Martesana\, Parco della Martesana\, Milano\, 20127
ATTACH;FMTTYPE=image/png:https://nuovoanfiteatromartesana.org/wp-content/uploads/2026/01/NAMA-1000x1000px-2026-01-19T103708.782.png
END:VEVENT
BEGIN:VEVENT
DTSTART;TZID=UTC:20260426T110000
DTEND;TZID=UTC:20260426T110000
DTSTAMP:20260421T030934
CREATED:20260330T100713Z
LAST-MODIFIED:20260330T100713Z
UID:9633-1777201200-1777201200@www.nuovoanfiteatromartesana.org
SUMMARY:DOMENICA IN GIARDINO
DESCRIPTION:Il Giardino Nascosto in via Bertelli 44\nApertura settimanale\nTorna a fiorire il giardino condiviso lungo il Naviglio Piccolo: tutte le domeniche il cancello è aperto per attività di cura del verde\, laboratori\, mercatini e suoni condivisi. \nDomenica 26 aprile 2026\n11:00 – 19:00\nÈ aperto tutte le domeniche il Giardino Nascosto\, l’area verde di circa 600 mq tra via Luigi Bertelli e via Stamira D’Ancona\, lungo la ciclabile della Martesana. Tante attività e momenti condivisi: tempo\, pratiche e incontri! \nSegui la pagina Instagram del Giardino Nascosto per tutti gli aggiornamenti. \n→ Via Luigi Bertelli 44\, Milano\nSCOPRI IL PROGETTO\n✴︎\nIngresso libero per i soci NAMA\nSe non hai la tessera\, registrati online: il pre-tesseramento è obbligatorio almeno 24h prima di arrivare. \nDIVENTA SOCIO NAMA
URL:https://www.nuovoanfiteatromartesana.org/event/domenica-in-giardino-9/
LOCATION:Il Giardino Nascosto\, via Bertelli 44\, Via Bertelli 44\, Milano\, 20127
CATEGORIES:IL GIARDINO NASCOSTO
ATTACH;FMTTYPE=image/png:https://nuovoanfiteatromartesana.org/wp-content/uploads/2026/03/213.png
END:VEVENT
BEGIN:VEVENT
DTSTART;TZID=UTC:20260426T160000
DTEND;TZID=UTC:20260426T160000
DTSTAMP:20260421T030934
CREATED:20260330T100131Z
LAST-MODIFIED:20260330T100131Z
UID:9621-1777219200-1777219200@www.nuovoanfiteatromartesana.org
SUMMARY:CICLOFFICINA POP
DESCRIPTION:Ciclofficina Pop\nTutte le domeniche a NAMA con Ciclofficina Pontegiallo\nUno spazio dove puoi mettere a posto la tua bici o costruirne una con il materiale a disposizione\, noi saremo li ad aiutarti e a prenderci cura di ogni parte della tua fedele compagna di pedalate! La ciclofficina è autogestita: ristema ciò che usi\, se sporchi pulisci\, se hai i tuoi pezzi portali. \ndalle h 16:00 alle 20:00\nLa ciclofficina non è a scopo di lucro né a scopo commerciale. \n✴︎\nIngresso gratuito riservato ai soci NAMA\nSe non hai la tessera\, registrati online: il pre-tesseramento è obbligatorio almeno 24h prima di arrivare. \nDIVENTA SOCIO NAMA
URL:https://www.nuovoanfiteatromartesana.org/event/ciclofficina-pop-27/
LOCATION:[INSIDE] NAMA – Nuovo Anfiteatro Martesana\, Parco della Martesana\, Milano\, 20127
ATTACH;FMTTYPE=image/jpeg:https://nuovoanfiteatromartesana.org/wp-content/uploads/2025/01/NAMA05-1-scaled.jpg
END:VEVENT
BEGIN:VEVENT
DTSTART;TZID=UTC:20260426T160000
DTEND;TZID=UTC:20260426T160000
DTSTAMP:20260421T030934
CREATED:20260420T173548Z
LAST-MODIFIED:20260420T175720Z
UID:9713-1777219200-1777219200@www.nuovoanfiteatromartesana.org
SUMMARY:SPAZIO MARGINE - DRALIM: A TRANSITION NOISE
DESCRIPTION:Tutte le domeniche dal 19 aprile al 31 maggio 2026\n[ SPAZIO MARGINE]\nDRALIM: A TRANSITION NOISE\n16:00 – 19:00\nEsplorare il rumore nell’era dell’intelligenza artificiale.\nFotografie di Ciro Falciano\nUn lavoro fotografico di Ciro Falciano che analizza il lato invisibile dell’IA\, dove il “rumore” digitale si fa portatore di bias culturali e nuovi stereotipi sociali. \nPyramiden è stata abbandonata nel 1998\, ma la sua architettura continua a parlare: il busto di Lenin più a nord del mondo\, gli edifici razionalisti\, il silenzio bianco che avvolge tutto. \nLa mostra è visitabile ogni domenica dal 19 aprile 2026 fino a fine maggio durante gli orari di apertura (pomeriggio e sera). \nSpazio Margine\n✴︎\nIngresso gratuito riservato ai soci NAMA\nSe non hai la tessera\, registrati online: il pre-tesseramento è obbligatorio almeno 24h prima di arrivare. \nDIVENTA SOCIO NAMA
URL:https://www.nuovoanfiteatromartesana.org/event/spazio-margine-svalbard-soviet-era-5/
LOCATION:[INSIDE] NAMA – Nuovo Anfiteatro Martesana\, Parco della Martesana\, Milano\, 20127
ATTACH;FMTTYPE=image/png:https://nuovoanfiteatromartesana.org/wp-content/uploads/2026/04/NAMA-1000x1000px-18.png
END:VEVENT
BEGIN:VEVENT
DTSTART;TZID=UTC:20260430T200000
DTEND;TZID=UTC:20260430T200000
DTSTAMP:20260421T030934
CREATED:20260330T101117Z
LAST-MODIFIED:20260330T101117Z
UID:9640-1777579200-1777579200@www.nuovoanfiteatromartesana.org
SUMMARY:RIBES JAM
DESCRIPTION:Giovedì 30 aprile 2026\nRIBES JAM\nRIBES JAM è il primo format di NAMA in collaborazione con Sessioni Sotterranee. \nDi cosa si tratta? Ribes è una Jam session con ospiti del panorama underground italiano.\nQuando? Tutti i giovedì\nDove? A NAMA – Nuovo Anfiteatro Martesana \n20:00 – 02:00\n@ Spazio eventi\nTBA \n@ Sala bar\nTBA \n✴︎\nIngresso gratuito riservato ai soci NAMA\nSe non hai la tessera\, registrati online: il pre-tesseramento è obbligatorio almeno 24h prima di arrivare. \nDIVENTA SOCIO NAMA
URL:https://www.nuovoanfiteatromartesana.org/event/ribes-jam-45/
LOCATION:[INSIDE] NAMA – Nuovo Anfiteatro Martesana\, Parco della Martesana\, Milano\, 20127
ATTACH;FMTTYPE=image/jpeg:https://nuovoanfiteatromartesana.org/wp-content/uploads/2026/02/Ribes_templ-Dice-16.jpg
END:VEVENT
BEGIN:VEVENT
DTSTART;TZID=UTC:20260503T160000
DTEND;TZID=UTC:20260503T160000
DTSTAMP:20260421T030934
CREATED:20260420T175727Z
LAST-MODIFIED:20260420T175848Z
UID:9726-1777824000-1777824000@www.nuovoanfiteatromartesana.org
SUMMARY:SPAZIO MARGINE - DRALIM: A TRANSITION NOISE
DESCRIPTION:Tutte le domeniche dal 19 aprile al 31 maggio 2026\n[ SPAZIO MARGINE]\nDRALIM: A TRANSITION NOISE\n16:00 – 19:00\nEsplorare il rumore nell’era dell’intelligenza artificiale.\nFotografie di Ciro Falciano\nUn lavoro fotografico di Ciro Falciano che analizza il lato invisibile dell’IA\, dove il “rumore” digitale si fa portatore di bias culturali e nuovi stereotipi sociali. \nPyramiden è stata abbandonata nel 1998\, ma la sua architettura continua a parlare: il busto di Lenin più a nord del mondo\, gli edifici razionalisti\, il silenzio bianco che avvolge tutto. \nLa mostra è visitabile ogni domenica dal 19 aprile 2026 fino a fine maggio durante gli orari di apertura (pomeriggio e sera). \nSpazio Margine\n✴︎\nIngresso gratuito riservato ai soci NAMA\nSe non hai la tessera\, registrati online: il pre-tesseramento è obbligatorio almeno 24h prima di arrivare. \nDIVENTA SOCIO NAMA
URL:https://www.nuovoanfiteatromartesana.org/event/spazio-margine-dralim-a-transition-noise/
LOCATION:[INSIDE] NAMA – Nuovo Anfiteatro Martesana\, Parco della Martesana\, Milano\, 20127
ATTACH;FMTTYPE=image/png:https://nuovoanfiteatromartesana.org/wp-content/uploads/2026/04/NAMA-1000x1000px-18.png
END:VEVENT
BEGIN:VEVENT
DTSTART;TZID=UTC:20260503T160000
DTEND;TZID=UTC:20260503T160000
DTSTAMP:20260421T030934
CREATED:20260420T180016Z
LAST-MODIFIED:20260420T180016Z
UID:9738-1777824000-1777824000@www.nuovoanfiteatromartesana.org
SUMMARY:CICLOFFICINA POP
DESCRIPTION:Ciclofficina Pop\nTutte le domeniche a NAMA con Ciclofficina Pontegiallo\nUno spazio dove puoi mettere a posto la tua bici o costruirne una con il materiale a disposizione\, noi saremo li ad aiutarti e a prenderci cura di ogni parte della tua fedele compagna di pedalate! La ciclofficina è autogestita: ristema ciò che usi\, se sporchi pulisci\, se hai i tuoi pezzi portali. \ndalle h 16:00 alle 20:00\nLa ciclofficina non è a scopo di lucro né a scopo commerciale. \n✴︎\nIngresso gratuito riservato ai soci NAMA\nSe non hai la tessera\, registrati online: il pre-tesseramento è obbligatorio almeno 24h prima di arrivare. \nDIVENTA SOCIO NAMA
URL:https://www.nuovoanfiteatromartesana.org/event/ciclofficina-pop-28/
LOCATION:[INSIDE] NAMA – Nuovo Anfiteatro Martesana\, Parco della Martesana\, Milano\, 20127
ATTACH;FMTTYPE=image/jpeg:https://nuovoanfiteatromartesana.org/wp-content/uploads/2025/01/NAMA05-1-scaled.jpg
END:VEVENT
BEGIN:VEVENT
DTSTART;TZID=UTC:20260503T160000
DTEND;TZID=UTC:20260503T160000
DTSTAMP:20260421T030934
CREATED:20260420T180050Z
LAST-MODIFIED:20260420T180050Z
UID:9740-1777824000-1777824000@www.nuovoanfiteatromartesana.org
SUMMARY:ATTREZZERIA POP
DESCRIPTION:Attrezzeria Pop\nTutte i sabati a NAMA con Conservami\nInsieme ripariamo la bici bucata\, il jeans strappato\, il minipimer bloccato e la sedia sgangherata: meno rifiuti e più riparazioni! \ndalle h 16:00 alle 19:00\n✴︎\nIngresso gratuito riservato ai soci NAMA\nSe non hai la tessera\, registrati online: il pre-tesseramento è obbligatorio almeno 24h prima di arrivare. \nDIVENTA SOCIO NAMA
URL:https://www.nuovoanfiteatromartesana.org/event/attrezzeria-pop-28/
LOCATION:[INSIDE] NAMA – Nuovo Anfiteatro Martesana\, Parco della Martesana\, Milano\, 20127
ATTACH;FMTTYPE=image/png:https://nuovoanfiteatromartesana.org/wp-content/uploads/2025/01/Progetto-senza-titolo12.png
END:VEVENT
BEGIN:VEVENT
DTSTART;TZID=UTC:20260507T200000
DTEND;TZID=UTC:20260507T200000
DTSTAMP:20260421T030934
CREATED:20260420T180502Z
LAST-MODIFIED:20260420T180537Z
UID:9751-1778184000-1778184000@www.nuovoanfiteatromartesana.org
SUMMARY:RIBES JAM
DESCRIPTION:Ogni giovedì\nRIBES JAM\nRIBES JAM è il primo format di NAMA in collaborazione con Sessioni Sotterranee. \nDi cosa si tratta? Ribes è una Jam session con ospiti del panorama underground italiano.\nQuando? Tutti i giovedì\nDove? A NAMA – Nuovo Anfiteatro Martesana \n20:00 – 02:00\nSegui Ribes Jam per scoprire il programma delle attività!\n✴︎\nIngresso gratuito riservato ai soci NAMA\nSe non hai la tessera\, registrati online: il pre-tesseramento è obbligatorio almeno 24h prima di arrivare. \nDIVENTA SOCIO NAMA
URL:https://www.nuovoanfiteatromartesana.org/event/ribes-jam-46/
LOCATION:[INSIDE] NAMA – Nuovo Anfiteatro Martesana\, Parco della Martesana\, Milano\, 20127
ATTACH;FMTTYPE=image/jpeg:https://nuovoanfiteatromartesana.org/wp-content/uploads/2026/02/Ribes_templ-Dice-13.jpg
END:VEVENT
BEGIN:VEVENT
DTSTART;TZID=UTC:20260509T160000
DTEND;TZID=UTC:20260509T160000
DTSTAMP:20260421T030934
CREATED:20260420T180152Z
LAST-MODIFIED:20260420T180152Z
UID:9743-1778342400-1778342400@www.nuovoanfiteatromartesana.org
SUMMARY:ATTREZZERIA POP
DESCRIPTION:Attrezzeria Pop\nTutte i sabati a NAMA con Conservami\nInsieme ripariamo la bici bucata\, il jeans strappato\, il minipimer bloccato e la sedia sgangherata: meno rifiuti e più riparazioni! \ndalle h 16:00 alle 19:00\n✴︎\nIngresso gratuito riservato ai soci NAMA\nSe non hai la tessera\, registrati online: il pre-tesseramento è obbligatorio almeno 24h prima di arrivare. \nDIVENTA SOCIO NAMA
URL:https://www.nuovoanfiteatromartesana.org/event/attrezzeria-pop-29/
LOCATION:[INSIDE] NAMA – Nuovo Anfiteatro Martesana\, Parco della Martesana\, Milano\, 20127
ATTACH;FMTTYPE=image/png:https://nuovoanfiteatromartesana.org/wp-content/uploads/2025/01/Progetto-senza-titolo12.png
END:VEVENT
BEGIN:VEVENT
DTSTART;TZID=UTC:20260510T160000
DTEND;TZID=UTC:20260510T160000
DTSTAMP:20260421T030934
CREATED:20260420T175854Z
LAST-MODIFIED:20260420T175854Z
UID:9733-1778428800-1778428800@www.nuovoanfiteatromartesana.org
SUMMARY:SPAZIO MARGINE - DRALIM: A TRANSITION NOISE
DESCRIPTION:Tutte le domeniche dal 19 aprile al 31 maggio 2026\n[ SPAZIO MARGINE]\nDRALIM: A TRANSITION NOISE\n16:00 – 19:00\nEsplorare il rumore nell’era dell’intelligenza artificiale.\nFotografie di Ciro Falciano\nUn lavoro fotografico di Ciro Falciano che analizza il lato invisibile dell’IA\, dove il “rumore” digitale si fa portatore di bias culturali e nuovi stereotipi sociali. \nPyramiden è stata abbandonata nel 1998\, ma la sua architettura continua a parlare: il busto di Lenin più a nord del mondo\, gli edifici razionalisti\, il silenzio bianco che avvolge tutto. \nLa mostra è visitabile ogni domenica dal 19 aprile 2026 fino a fine maggio durante gli orari di apertura (pomeriggio e sera). \nSpazio Margine\n✴︎\nIngresso gratuito riservato ai soci NAMA\nSe non hai la tessera\, registrati online: il pre-tesseramento è obbligatorio almeno 24h prima di arrivare. \nDIVENTA SOCIO NAMA
URL:https://www.nuovoanfiteatromartesana.org/event/spazio-margine-dralim-a-transition-noise-2/
LOCATION:[INSIDE] NAMA – Nuovo Anfiteatro Martesana\, Parco della Martesana\, Milano\, 20127
ATTACH;FMTTYPE=image/png:https://nuovoanfiteatromartesana.org/wp-content/uploads/2026/04/NAMA-1000x1000px-18.png
END:VEVENT
BEGIN:VEVENT
DTSTART;TZID=UTC:20260510T160000
DTEND;TZID=UTC:20260510T160000
DTSTAMP:20260421T030934
CREATED:20260420T180122Z
LAST-MODIFIED:20260420T180122Z
UID:9742-1778428800-1778428800@www.nuovoanfiteatromartesana.org
SUMMARY:CICLOFFICINA POP
DESCRIPTION:Ciclofficina Pop\nTutte le domeniche a NAMA con Ciclofficina Pontegiallo\nUno spazio dove puoi mettere a posto la tua bici o costruirne una con il materiale a disposizione\, noi saremo li ad aiutarti e a prenderci cura di ogni parte della tua fedele compagna di pedalate! La ciclofficina è autogestita: ristema ciò che usi\, se sporchi pulisci\, se hai i tuoi pezzi portali. \ndalle h 16:00 alle 20:00\nLa ciclofficina non è a scopo di lucro né a scopo commerciale. \n✴︎\nIngresso gratuito riservato ai soci NAMA\nSe non hai la tessera\, registrati online: il pre-tesseramento è obbligatorio almeno 24h prima di arrivare. \nDIVENTA SOCIO NAMA
URL:https://www.nuovoanfiteatromartesana.org/event/ciclofficina-pop-29/
LOCATION:[INSIDE] NAMA – Nuovo Anfiteatro Martesana\, Parco della Martesana\, Milano\, 20127
ATTACH;FMTTYPE=image/jpeg:https://nuovoanfiteatromartesana.org/wp-content/uploads/2025/01/NAMA05-1-scaled.jpg
END:VEVENT
BEGIN:VEVENT
DTSTART;TZID=UTC:20260514T200000
DTEND;TZID=UTC:20260514T200000
DTSTAMP:20260421T030934
CREATED:20260420T180627Z
LAST-MODIFIED:20260420T180654Z
UID:9754-1778788800-1778788800@www.nuovoanfiteatromartesana.org
SUMMARY:RIBES JAM
DESCRIPTION:Ogni giovedì\nRIBES JAM\nRIBES JAM è il primo format di NAMA in collaborazione con Sessioni Sotterranee. \nDi cosa si tratta? Ribes è una Jam session con ospiti del panorama underground italiano.\nQuando? Tutti i giovedì\nDove? A NAMA – Nuovo Anfiteatro Martesana \n20:00 – 02:00\nSegui Ribes Jam per scoprire il programma delle attività!\n✴︎\nIngresso gratuito riservato ai soci NAMA\nSe non hai la tessera\, registrati online: il pre-tesseramento è obbligatorio almeno 24h prima di arrivare. \nDIVENTA SOCIO NAMA
URL:https://www.nuovoanfiteatromartesana.org/event/ribes-jam-47/
LOCATION:[INSIDE] NAMA – Nuovo Anfiteatro Martesana\, Parco della Martesana\, Milano\, 20127
ATTACH;FMTTYPE=image/jpeg:https://nuovoanfiteatromartesana.org/wp-content/uploads/2026/02/Ribes_templ-Dice-14.jpg
END:VEVENT
BEGIN:VEVENT
DTSTART;TZID=UTC:20260516T160000
DTEND;TZID=UTC:20260516T160000
DTSTAMP:20260421T030934
CREATED:20260420T180303Z
LAST-MODIFIED:20260420T180303Z
UID:9749-1778947200-1778947200@www.nuovoanfiteatromartesana.org
SUMMARY:ATTREZZERIA POP
DESCRIPTION:Attrezzeria Pop\nTutte i sabati a NAMA con Conservami\nInsieme ripariamo la bici bucata\, il jeans strappato\, il minipimer bloccato e la sedia sgangherata: meno rifiuti e più riparazioni! \ndalle h 16:00 alle 19:00\n✴︎\nIngresso gratuito riservato ai soci NAMA\nSe non hai la tessera\, registrati online: il pre-tesseramento è obbligatorio almeno 24h prima di arrivare. \nDIVENTA SOCIO NAMA
URL:https://www.nuovoanfiteatromartesana.org/event/attrezzeria-pop-30/
LOCATION:[INSIDE] NAMA – Nuovo Anfiteatro Martesana\, Parco della Martesana\, Milano\, 20127
ATTACH;FMTTYPE=image/png:https://nuovoanfiteatromartesana.org/wp-content/uploads/2025/01/Progetto-senza-titolo12.png
END:VEVENT
BEGIN:VEVENT
DTSTART;TZID=UTC:20260517T160000
DTEND;TZID=UTC:20260517T160000
DTSTAMP:20260421T030934
CREATED:20260420T175945Z
LAST-MODIFIED:20260420T175945Z
UID:9736-1779033600-1779033600@www.nuovoanfiteatromartesana.org
SUMMARY:SPAZIO MARGINE - DRALIM: A TRANSITION NOISE
DESCRIPTION:Tutte le domeniche dal 19 aprile al 31 maggio 2026\n[ SPAZIO MARGINE]\nDRALIM: A TRANSITION NOISE\n16:00 – 19:00\nEsplorare il rumore nell’era dell’intelligenza artificiale.\nFotografie di Ciro Falciano\nUn lavoro fotografico di Ciro Falciano che analizza il lato invisibile dell’IA\, dove il “rumore” digitale si fa portatore di bias culturali e nuovi stereotipi sociali. \nPyramiden è stata abbandonata nel 1998\, ma la sua architettura continua a parlare: il busto di Lenin più a nord del mondo\, gli edifici razionalisti\, il silenzio bianco che avvolge tutto. \nLa mostra è visitabile ogni domenica dal 19 aprile 2026 fino a fine maggio durante gli orari di apertura (pomeriggio e sera). \nSpazio Margine\n✴︎\nIngresso gratuito riservato ai soci NAMA\nSe non hai la tessera\, registrati online: il pre-tesseramento è obbligatorio almeno 24h prima di arrivare. \nDIVENTA SOCIO NAMA
URL:https://www.nuovoanfiteatromartesana.org/event/spazio-margine-dralim-a-transition-noise-3/
LOCATION:[INSIDE] NAMA – Nuovo Anfiteatro Martesana\, Parco della Martesana\, Milano\, 20127
ATTACH;FMTTYPE=image/png:https://nuovoanfiteatromartesana.org/wp-content/uploads/2026/04/NAMA-1000x1000px-18.png
END:VEVENT
BEGIN:VEVENT
DTSTART;TZID=UTC:20260517T160000
DTEND;TZID=UTC:20260517T160000
DTSTAMP:20260421T030934
CREATED:20260420T180223Z
LAST-MODIFIED:20260420T180223Z
UID:9746-1779033600-1779033600@www.nuovoanfiteatromartesana.org
SUMMARY:CICLOFFICINA POP
DESCRIPTION:Ciclofficina Pop\nTutte le domeniche a NAMA con Ciclofficina Pontegiallo\nUno spazio dove puoi mettere a posto la tua bici o costruirne una con il materiale a disposizione\, noi saremo li ad aiutarti e a prenderci cura di ogni parte della tua fedele compagna di pedalate! La ciclofficina è autogestita: ristema ciò che usi\, se sporchi pulisci\, se hai i tuoi pezzi portali. \ndalle h 16:00 alle 20:00\nLa ciclofficina non è a scopo di lucro né a scopo commerciale. \n✴︎\nIngresso gratuito riservato ai soci NAMA\nSe non hai la tessera\, registrati online: il pre-tesseramento è obbligatorio almeno 24h prima di arrivare. \nDIVENTA SOCIO NAMA
URL:https://www.nuovoanfiteatromartesana.org/event/ciclofficina-pop-30/
LOCATION:[INSIDE] NAMA – Nuovo Anfiteatro Martesana\, Parco della Martesana\, Milano\, 20127
ATTACH;FMTTYPE=image/jpeg:https://nuovoanfiteatromartesana.org/wp-content/uploads/2025/01/NAMA05-1-scaled.jpg
END:VEVENT
END:VCALENDAR